BEGIN:VCALENDAR
VERSION:2.0
PRODID:-//Alaska Fitness - ECPv6.15.18//NONSGML v1.0//EN
CALSCALE:GREGORIAN
METHOD:PUBLISH
X-ORIGINAL-URL:https://alaskafitness.net
X-WR-CALDESC:Events for Alaska Fitness
REFRESH-INTERVAL;VALUE=DURATION:PT1H
X-Robots-Tag:noindex
X-PUBLISHED-TTL:PT1H
BEGIN:VTIMEZONE
TZID:UTC
BEGIN:STANDARD
TZOFFSETFROM:+0000
TZOFFSETTO:+0000
TZNAME:UTC
DTSTART:20230101T000000
END:STANDARD
END:VTIMEZONE
BEGIN:VEVENT
DTSTART;TZID=UTC:20240101T070000
DTEND;TZID=UTC:20240101T080000
DTSTAMP:20260423T210926
CREATED:20181012T203446Z
LAST-MODIFIED:20241023T152612Z
UID:2397-1704092400-1704096000@alaskafitness.net
SUMMARY:Small Group
DESCRIPTION:The Best of Both Worlds\nLooking for something a little more personal—but you don’t necessarily require one-on-one attention? Our Alloy® Small Group Training gives you the best of both worlds: the individualized attention of Personal Training with the social aspects of Team Training. \nLed by certified trainers in our Functional Training Zone and limited to 2 to 4 people\, Small Group Training allows you to challenge yourself in a safe\, empowering and inspiring environment. Everyone supports each other’s goals. This cost-effective yet highly personal option is skyrocketing in popularity—sign up at Alaska Fitness and find out why! \nWhat Are the Benefits of Small Group Training? \n\nMore in-depth\, personalized instruction vs. a larger class\nGreater motivation to push harder & achieve more\nExercises tailored to your fitness level & capabilities\nTrainer knows your unique concerns & fitness goals\nA more affordable alternative to 1-on-1 training\n\nThe Alloy® Small Group Training programs have been comprehensively developed with input from doctors\, nutritionists and other health and fitness experts. They’re based on real science\, to deliver real results for you! \nSmall Group Training packages include unlimited access to Team Training sessions. Attend as many as you want each month for half the price of a studio. We get stronger together\, let’s transform your body today.
URL:https://alaskafitness.net/event/small-group/2024-01-01/
ATTACH;FMTTYPE=image/jpeg:https://alaskafitness.net/wp-content/uploads/2018/08/small-group-training-hero.jpg
END:VEVENT
END:VCALENDAR