BEGIN:VCALENDAR
VERSION:2.0
PRODID:-//Alaska Fitness - ECPv6.15.18//NONSGML v1.0//EN
CALSCALE:GREGORIAN
METHOD:PUBLISH
X-ORIGINAL-URL:https://alaskafitness.net
X-WR-CALDESC:Events for Alaska Fitness
REFRESH-INTERVAL;VALUE=DURATION:PT1H
X-Robots-Tag:noindex
X-PUBLISHED-TTL:PT1H
BEGIN:VTIMEZONE
TZID:UTC
BEGIN:STANDARD
TZOFFSETFROM:+0000
TZOFFSETTO:+0000
TZNAME:UTC
DTSTART:20230101T000000
END:STANDARD
END:VTIMEZONE
BEGIN:VEVENT
DTSTART;TZID=UTC:20240101T120000
DTEND;TZID=UTC:20240101T130000
DTSTAMP:20260423T225803
CREATED:20181211T151734Z
LAST-MODIFIED:20241023T154553Z
UID:5398-1704110400-1704114000@alaskafitness.net
SUMMARY:Industrial Strength
DESCRIPTION:Want to be stronger without adding\nbulk to your frame?\nFeaturing old-school methods\, Industrial Strength by Alloy® is a challenging program that involves using heavier weights and fewer repetitions to help you build muscle\, blast fat and shape a slimmer physique. \nYou’ll benefit from the latest exercise science in a motivating\, results-driven group format. \nWho is This Program for? \nIndustrial Strength is not a bodybuilding class. It’s designed for people looking to develop a leaner\, more athletic body that makes everyday activities easier—whether you’re moving heavy furniture or simply picking up your child. \nAdvantages include: \n\nStronger\, more well-defined muscles\nReduced injury risk in other activities\nImproved flexibility\nImproved range of motion\nIncreased stamina and energy\nWeight loss\nEnhanced confidence\n\nGet access to unlimited Industrial Strength sessions when you purchase one of our Small Group Training or Personal Training packages. To learn more\, contact us.
URL:https://alaskafitness.net/event/industrial-strength-sign-up-required/2024-01-01/
ATTACH;FMTTYPE=image/jpeg:https://alaskafitness.net/wp-content/uploads/2018/08/industrial-strength-hero.jpg
END:VEVENT
END:VCALENDAR