BEGIN:VCALENDAR
VERSION:2.0
PRODID:-//Alaska Fitness - ECPv6.15.18//NONSGML v1.0//EN
CALSCALE:GREGORIAN
METHOD:PUBLISH
X-ORIGINAL-URL:https://alaskafitness.net
X-WR-CALDESC:Events for Alaska Fitness
REFRESH-INTERVAL;VALUE=DURATION:PT1H
X-Robots-Tag:noindex
X-PUBLISHED-TTL:PT1H
BEGIN:VTIMEZONE
TZID:UTC
BEGIN:STANDARD
TZOFFSETFROM:+0000
TZOFFSETTO:+0000
TZNAME:UTC
DTSTART:20230101T000000
END:STANDARD
END:VTIMEZONE
BEGIN:VEVENT
DTSTART;TZID=UTC:20240103T183000
DTEND;TZID=UTC:20240103T193000
DTSTAMP:20260422T011931
CREATED:20181011T022446Z
LAST-MODIFIED:20240604T035519Z
UID:2387-1704306600-1704310200@alaskafitness.net
SUMMARY:Deep Stretch
DESCRIPTION:
URL:https://alaskafitness.net/event/deep-stretch/2024-01-03/
END:VEVENT
END:VCALENDAR